BEGIN:VCALENDAR
VERSION:2.0
PRODID:icalendar-ruby
CALSCALE:GREGORIAN
METHOD:PUBLISH
BEGIN:VEVENT
DTSTAMP:20260425T230919Z
UID:8-270525@kvchristiancenter.com
DTSTART:20260930T230000Z
DTEND:20261001T000000Z
CLASS:PUBLIC
CREATED:20260425T163751
DESCRIPTION:Mid-Week Bible Study
LAST-MODIFIED:20260425T163751
LOCATION:The KVCC YouTube Channel
SUMMARY:Mid-Week Bible Study
URL;VALUE=URI:https://kvchristiancenter.com/events/mid-week-bible-study/202
 6-09-30
END:VEVENT
END:VCALENDAR
