BEGIN:VCALENDAR
VERSION:2.0
PRODID:icalendar-ruby
CALSCALE:GREGORIAN
METHOD:PUBLISH
BEGIN:VEVENT
DTSTAMP:20260426T003419Z
UID:8-270632@kvchristiancenter.com
DTSTART:20261007T230000Z
DTEND:20261008T000000Z
CLASS:PUBLIC
CREATED:20260425T192058
DESCRIPTION:Mid-Week Bible Study
LAST-MODIFIED:20260425T192058
LOCATION:The KVCC YouTube Channel
SUMMARY:Mid-Week Bible Study
URL;VALUE=URI:https://kvchristiancenter.com/events/mid-week-bible-study/202
 6-10-07
END:VEVENT
END:VCALENDAR
