BEGIN:VCALENDAR
VERSION:2.0
PRODID:icalendar-ruby
CALSCALE:GREGORIAN
METHOD:PUBLISH
BEGIN:VEVENT
DTSTAMP:20260426T020154Z
UID:8-270633@kvchristiancenter.com
DTSTART:20261014T230000Z
DTEND:20261015T000000Z
CLASS:PUBLIC
CREATED:20260425T192058
DESCRIPTION:Mid-Week Bible Study
LAST-MODIFIED:20260425T192058
LOCATION:The KVCC YouTube Channel
SUMMARY:Mid-Week Bible Study
URL;VALUE=URI:https://kvchristiancenter.com/events/mid-week-bible-study/202
 6-10-14
END:VEVENT
END:VCALENDAR
