BEGIN:VCALENDAR
VERSION:2.0
PRODID:icalendar-ruby
CALSCALE:GREGORIAN
METHOD:PUBLISH
BEGIN:VEVENT
DTSTAMP:20260426T032329Z
UID:8-270740@kvchristiancenter.com
DTSTART:20261021T230000Z
DTEND:20261022T000000Z
CLASS:PUBLIC
CREATED:20260425T220204
DESCRIPTION:Mid-Week Bible Study
LAST-MODIFIED:20260425T220204
LOCATION:The KVCC YouTube Channel
SUMMARY:Mid-Week Bible Study
URL;VALUE=URI:https://kvchristiancenter.com/events/mid-week-bible-study/202
 6-10-21
END:VEVENT
END:VCALENDAR
